BEGIN:VCALENDAR
VERSION:2.0
PRODID:-//Suur-Savon Beagle ry - ECPv5.2.1//NONSGML v1.0//EN
CALSCALE:GREGORIAN
METHOD:PUBLISH
X-WR-CALNAME:Suur-Savon Beagle ry
X-ORIGINAL-URL:https://suursavonbeagle.fi
X-WR-CALDESC:Tapahtumat Suur-Savon Beagle ry
BEGIN:VTIMEZONE
TZID:Europe/Helsinki
BEGIN:DAYLIGHT
TZOFFSETFROM:+0200
TZOFFSETTO:+0300
TZNAME:EEST
DTSTART:20220327T010000
END:DAYLIGHT
BEGIN:STANDARD
TZOFFSETFROM:+0300
TZOFFSETTO:+0200
TZNAME:EET
DTSTART:20221030T010000
END:STANDARD
END:VTIMEZONE
BEGIN:VEVENT
DTSTART;TZID=Europe/Helsinki:20221029T080000
DTEND;TZID=Europe/Helsinki:20221103T170000
DTSTAMP:20260422T231938
CREATED:20221029T071111Z
LAST-MODIFIED:20221029T071709Z
UID:982-1667030400-1667494800@suursavonbeagle.fi
SUMMARY:Reppukoe 12.11.2022 Juva
DESCRIPTION:Tapahtuman tyyppi\nyleinen\n\n\nKoemuoto\nBeaglein ajokoe\n\n\nAika\n12.11.2022\n\n\nJärjestäjä\nSUUR-SAVON BEAGLE RY\n\n\nYlituomari\nPESONEN TIMO\n\n\nIlmoittautuminen\n6.11.2022 mennessä\nOsanottomaksu 20€\nTilinumero FI42 5088 0050 0098 14\n\n\nIlmoittautumisen vastaanottaja\nMANNER ANNAMARI\nannamari.manner@gmail.com\npuh. 0440207416\n\n\n\nReppukoe tarkoittaa sitä\, että koiranomistaja huolehtii tuomareiden päivän tarjoiluista. Keskuspaikalla kokeen järjestäjä tarjoaa aamukahvit.
URL:https://suursavonbeagle.fi/tapahtuma/reppukoe-12-11-2022-juva/
END:VEVENT
END:VCALENDAR