BEGIN:VCALENDAR
VERSION:2.0
PRODID:-//Suur-Savon Beagle ry - ECPv5.2.1//NONSGML v1.0//EN
CALSCALE:GREGORIAN
METHOD:PUBLISH
X-WR-CALNAME:Suur-Savon Beagle ry
X-ORIGINAL-URL:http://suursavonbeagle.fi
X-WR-CALDESC:Tapahtumat Suur-Savon Beagle ry
BEGIN:VTIMEZONE
TZID:Europe/Helsinki
BEGIN:DAYLIGHT
TZOFFSETFROM:+0200
TZOFFSETTO:+0300
TZNAME:EEST
DTSTART:20240331T010000
END:DAYLIGHT
BEGIN:STANDARD
TZOFFSETFROM:+0300
TZOFFSETTO:+0200
TZNAME:EET
DTSTART:20241027T010000
END:STANDARD
END:VTIMEZONE
BEGIN:VEVENT
DTSTART;TZID=Europe/Helsinki:20240304T080000
DTEND;TZID=Europe/Helsinki:20240330T170000
DTSTAMP:20260419T160003
CREATED:20240304T065944Z
LAST-MODIFIED:20240304T065944Z
UID:1269-1709539200-1711818000@suursavonbeagle.fi
SUMMARY:PILKKIKILPAILUT/ULKOILUTAPAHTUMA 29.3.2024
DESCRIPTION:  \nDreeverikerhon\, Ajokoiramiesten ja Beagleyhdistyksen yhteinen pilkkikilpailu järjestetään tänä vuonna Tuula ja Markku Lampisen mökillä. \n  \nAika:         Pe 29.3.2024\, ilmoittautumiset alkaen klo 8-8.45 \nOsallistumismaksu 5 €\, sisältää makkarat ja kahvit. \n  \nPaikka:     Lehmoniementie 10\, 50200 Mikkeli \nOpastus Jyväskylän tieltä\, Kovalantien Seon vastapäätä Korpijärven rantaan \n  \nSarjat:      Yleinen\, naiset ja nuoret \n  \nJoukkuekilpailun voittaa yhdistys\, jolla viiden parhaan osallistuvan jäsenen kalojen määrä on suurempi. Tänä vuonna järjestelyistä vastaa Suur-Savon Beagle ry. \n  \nTervetuloa mukaan! \n  \nTiedustelut: \nMarkku Lampinen                          050 345 3296 \nArto Manner                                  050 555 4122
URL:http://suursavonbeagle.fi/tapahtuma/pilkkikilpailut-ulkoilutapahtuma-29-3-2024/
END:VEVENT
END:VCALENDAR